BEGIN:VCALENDAR
VERSION:2.0
PRODID:-//События в КубГУ - ECPv6.2.4//NONSGML v1.0//EN
CALSCALE:GREGORIAN
METHOD:PUBLISH
X-WR-CALNAME:События в КубГУ
X-ORIGINAL-URL:https://le.kubsu.ru
X-WR-CALDESC:Мероприятия для События в КубГУ
REFRESH-INTERVAL;VALUE=DURATION:PT1H
X-Robots-Tag:noindex
X-PUBLISHED-TTL:PT1H
BEGIN:VTIMEZONE
TZID:Europe/Moscow
BEGIN:STANDARD
TZOFFSETFROM:+0300
TZOFFSETTO:+0300
TZNAME:MSK
DTSTART:20260101T000000
END:STANDARD
END:VTIMEZONE
BEGIN:VEVENT
DTSTART;TZID=Europe/Moscow:20260212T080000
DTEND;TZID=Europe/Moscow:20260424T170000
DTSTAMP:20260424T173105
CREATED:20260302T055545Z
LAST-MODIFIED:20260302T055545Z
UID:2918-1770883200-1777050000@le.kubsu.ru
SUMMARY:Конкурс молодежных предпринимательских инициатив
DESCRIPTION:
URL:https://le.kubsu.ru/?tribe_events=%d0%ba%d0%be%d0%bd%d0%ba%d1%83%d1%80%d1%81-%d0%bc%d0%be%d0%bb%d0%be%d0%b4%d0%b5%d0%b6%d0%bd%d1%8b%d1%85-%d0%bf%d1%80%d0%b5%d0%b4%d0%bf%d1%80%d0%b8%d0%bd%d0%b8%d0%bc%d0%b0%d1%82%d0%b5%d0%bb%d1%8c-2
LOCATION:г. Краснодар\, ул. Ставропольская\, 149
END:VEVENT
BEGIN:VEVENT
DTSTART;TZID=Europe/Moscow:20260408T080000
DTEND;TZID=Europe/Moscow:20260430T170000
DTSTAMP:20260424T173105
CREATED:20260407T070611Z
LAST-MODIFIED:20260407T070611Z
UID:3017-1775635200-1777568400@le.kubsu.ru
SUMMARY:Универсиада ФГБОУ ВО «КубГУ»2025-2026 уч.года
DESCRIPTION:Гиревой спорт ж.\nГиревой спорт м.\nВолейбол м.\,ж.\nШахматы м.\nН.теннис ж.\nН.теннис м.\nПауэрлифтинг м.\nПауэрлифтинг ж.\nФутбол 6х6 м.\nБадминтон ж.\nБадминтон м.\nПляжный волейбол м.\,ж.\nПятиборье ГТО м.\,ж.
URL:https://le.kubsu.ru/?tribe_events=%d1%83%d0%bd%d0%b8%d0%b2%d0%b5%d1%80%d1%81%d0%b8%d0%b0%d0%b4%d0%b0-%d1%84%d0%b3%d0%b1%d0%be%d1%83-%d0%b2%d0%be-%d0%ba%d1%83%d0%b1%d0%b3%d1%832025-2026-%d1%83%d1%87-%d0%b3%d0%be%d0%b4%d0%b0
LOCATION:стадион КубГУ
END:VEVENT
BEGIN:VEVENT
DTSTART;TZID=Europe/Moscow:20260411T080000
DTEND;TZID=Europe/Moscow:20260426T170000
DTSTAMP:20260424T173105
CREATED:20260225T142142Z
LAST-MODIFIED:20260225T142142Z
UID:2875-1775894400-1777222800@le.kubsu.ru
SUMMARY:Визит делегации Института университетской педагогики г. Бамако\, Мали в рамках договора о сотрудничестве
DESCRIPTION:
URL:https://le.kubsu.ru/?tribe_events=%d0%b2%d0%b8%d0%b7%d0%b8%d1%82-%d0%b4%d0%b5%d0%bb%d0%b5%d0%b3%d0%b0%d1%86%d0%b8%d0%b8-%d0%b8%d0%bd%d1%81%d1%82%d0%b8%d1%82%d1%83%d1%82%d0%b0-%d1%83%d0%bd%d0%b8%d0%b2%d0%b5%d1%80%d1%81%d0%b8%d1%82
LOCATION:г. Краснодар\, ул. Ставропольская\, 149
END:VEVENT
BEGIN:VEVENT
DTSTART;TZID=Europe/Moscow:20260423T080000
DTEND;TZID=Europe/Moscow:20260425T170000
DTSTAMP:20260424T173105
CREATED:20260407T071742Z
LAST-MODIFIED:20260407T071839Z
UID:3036-1776931200-1777136400@le.kubsu.ru
SUMMARY:IX Общероссийская научная конференция «Моисеевские чтения. Победа в Великой Отечественной войне и будущее России как цивилизации»
DESCRIPTION:
URL:https://le.kubsu.ru/?tribe_events=ix-%d0%be%d0%b1%d1%89%d0%b5%d1%80%d0%be%d1%81%d1%81%d0%b8%d0%b9%d1%81%d0%ba%d0%b0%d1%8f-%d0%bd%d0%b0%d1%83%d1%87%d0%bd%d0%b0%d1%8f-%d0%ba%d0%be%d0%bd%d1%84%d0%b5%d1%80%d0%b5%d0%bd%d1%86%d0%b8%d1%8f
LOCATION:г. Краснодар\, ул. Ставропольская\, 149
END:VEVENT
BEGIN:VEVENT
DTSTART;TZID=Europe/Moscow:20260424T080000
DTEND;TZID=Europe/Moscow:20260424T170000
DTSTAMP:20260424T173105
CREATED:20260225T144335Z
LAST-MODIFIED:20260225T144335Z
UID:2890-1777017600-1777050000@le.kubsu.ru
SUMMARY:День оказания бесплатной юридической помощи участникам СВО и членам из семей (Новороссийск)
DESCRIPTION:
URL:https://le.kubsu.ru/?tribe_events=%d0%b4%d0%b5%d0%bd%d1%8c-%d0%be%d0%ba%d0%b0%d0%b7%d0%b0%d0%bd%d0%b8%d1%8f-%d0%b1%d0%b5%d1%81%d0%bf%d0%bb%d0%b0%d1%82%d0%bd%d0%be%d0%b9-%d1%8e%d1%80%d0%b8%d0%b4%d0%b8%d1%87%d0%b5%d1%81%d0%ba%d0%be-41
LOCATION:г. Новороссийск\, ул. Коммунистическая 36\, ауд.207
END:VEVENT
BEGIN:VEVENT
DTSTART;TZID=Europe/Moscow:20260424T100000
DTEND;TZID=Europe/Moscow:20260424T130000
DTSTAMP:20260424T173105
CREATED:20260325T173923Z
LAST-MODIFIED:20260325T173923Z
UID:2980-1777024800-1777035600@le.kubsu.ru
SUMMARY:Ученый совет
DESCRIPTION:
URL:https://le.kubsu.ru/?tribe_events=%d1%83%d1%87%d0%b5%d0%bd%d1%8b%d0%b9-%d1%81%d0%be%d0%b2%d0%b5%d1%82-14
LOCATION:Большой конференц-зал (ауд. 3030 Л)
END:VEVENT
BEGIN:VEVENT
DTSTART;TZID=Europe/Moscow:20260425T080000
DTEND;TZID=Europe/Moscow:20260425T170000
DTSTAMP:20260424T173105
CREATED:20260325T110424Z
LAST-MODIFIED:20260325T110424Z
UID:2962-1777104000-1777136400@le.kubsu.ru
SUMMARY:XI Всероссийский профильный социально-гуманитарный конкурс школьников «Развитие социального пространства России»
DESCRIPTION:
URL:https://le.kubsu.ru/?tribe_events=xi-%d0%b2%d1%81%d0%b5%d1%80%d0%be%d1%81%d1%81%d0%b8%d0%b9%d1%81%d0%ba%d0%b8%d0%b9-%d0%bf%d1%80%d0%be%d1%84%d0%b8%d0%bb%d1%8c%d0%bd%d1%8b%d0%b9-%d1%81%d0%be%d1%86%d0%b8%d0%b0%d0%bb%d1%8c%d0%bd%d0%be
LOCATION:Региональный центр выявления\, поддержки и развития способностей и талантов у детей и молодёжи Краснодарского края «ПРИЗМА»
END:VEVENT
BEGIN:VEVENT
DTSTART;TZID=Europe/Moscow:20260425T080000
DTEND;TZID=Europe/Moscow:20260425T170000
DTSTAMP:20260424T173105
CREATED:20260407T070100Z
LAST-MODIFIED:20260407T070100Z
UID:3004-1777104000-1777136400@le.kubsu.ru
SUMMARY:Волонтерское сопровождение международной акции «Диктант Победы»
DESCRIPTION:
URL:https://le.kubsu.ru/?tribe_events=%d0%b2%d0%be%d0%bb%d0%be%d0%bd%d1%82%d0%b5%d1%80%d1%81%d0%ba%d0%be%d0%b5-%d1%81%d0%be%d0%bf%d1%80%d0%be%d0%b2%d0%be%d0%b6%d0%b4%d0%b5%d0%bd%d0%b8%d0%b5-%d0%bc%d0%b5%d0%b6%d0%b4%d1%83%d0%bd%d0%b0%d1%80
LOCATION:г. Краснодар\, ул. Ставропольская\, 149
END:VEVENT
BEGIN:VEVENT
DTSTART;TZID=Europe/Moscow:20260425T080000
DTEND;TZID=Europe/Moscow:20260425T170000
DTSTAMP:20260424T173105
CREATED:20260407T073122Z
LAST-MODIFIED:20260407T073122Z
UID:3057-1777104000-1777136400@le.kubsu.ru
SUMMARY:Заключительный этап Конкурса проектных и исследовательских работ обучающихся по программам среднего общего и среднего профессионального образования на конкурс «Куб знаний» по направлению «Мировая художественная культура» (прием документов)
DESCRIPTION:
URL:https://le.kubsu.ru/?tribe_events=%d0%b7%d0%b0%d0%ba%d0%bb%d1%8e%d1%87%d0%b8%d1%82%d0%b5%d0%bb%d1%8c%d0%bd%d1%8b%d0%b9-%d1%8d%d1%82%d0%b0%d0%bf-%d0%ba%d0%be%d0%bd%d0%ba%d1%83%d1%80%d1%81%d0%b0-%d0%bf%d1%80%d0%be%d0%b5%d0%ba%d1%82-10
LOCATION:дистанционно
END:VEVENT
BEGIN:VEVENT
DTSTART;TZID=Europe/Moscow:20260425T080000
DTEND;TZID=Europe/Moscow:20260425T170000
DTSTAMP:20260424T173105
CREATED:20260407T073208Z
LAST-MODIFIED:20260407T073208Z
UID:3059-1777104000-1777136400@le.kubsu.ru
SUMMARY:Заключительный этап Конкурса проектных и исследовательских работ обучающихся по программам среднего общего и среднего профессионального образования на конкурс «Куб знаний» по направлению «Стартапы и предпринимательские идеи молодых»
DESCRIPTION:
URL:https://le.kubsu.ru/?tribe_events=%d0%b7%d0%b0%d0%ba%d0%bb%d1%8e%d1%87%d0%b8%d1%82%d0%b5%d0%bb%d1%8c%d0%bd%d1%8b%d0%b9-%d1%8d%d1%82%d0%b0%d0%bf-%d0%ba%d0%be%d0%bd%d0%ba%d1%83%d1%80%d1%81%d0%b0-%d0%bf%d1%80%d0%be%d0%b5%d0%ba%d1%82-11
LOCATION:дистанционно
END:VEVENT
BEGIN:VEVENT
DTSTART;TZID=Europe/Moscow:20260425T150000
DTEND;TZID=Europe/Moscow:20260425T180000
DTSTAMP:20260424T173105
CREATED:20260203T140816Z
LAST-MODIFIED:20260203T140816Z
UID:2718-1777129200-1777140000@le.kubsu.ru
SUMMARY:Семинар-консультация для школьников по физике и информатике (ЕГЭ) на физико-техническом факультете
DESCRIPTION:
URL:https://le.kubsu.ru/?tribe_events=%d1%81%d0%b5%d0%bc%d0%b8%d0%bd%d0%b0%d1%80-%d0%ba%d0%be%d0%bd%d1%81%d1%83%d0%bb%d1%8c%d1%82%d0%b0%d1%86%d0%b8%d1%8f-%d0%b4%d0%bb%d1%8f-%d1%88%d0%ba%d0%be%d0%bb%d1%8c%d0%bd%d0%b8%d0%ba%d0%be%d0%b2-3
LOCATION:г. Краснодар\, ул. Ставропольская\, 149
END:VEVENT
BEGIN:VEVENT
DTSTART;TZID=Europe/Moscow:20260426T110000
DTEND;TZID=Europe/Moscow:20260426T140000
DTSTAMP:20260424T173105
CREATED:20260114T093823Z
LAST-MODIFIED:20260114T093823Z
UID:2678-1777201200-1777212000@le.kubsu.ru
SUMMARY:День открытых дверей факультета журналистики
DESCRIPTION:
URL:https://le.kubsu.ru/?tribe_events=%d0%b4%d0%b5%d0%bd%d1%8c-%d0%be%d1%82%d0%ba%d1%80%d1%8b%d1%82%d1%8b%d1%85-%d0%b4%d0%b2%d0%b5%d1%80%d0%b5%d0%b9-%d1%84%d0%b0%d0%ba%d1%83%d0%bb%d1%8c%d1%82%d0%b5%d1%82%d0%b0-%d0%b6%d1%83%d1%80%d0%bd-6
LOCATION:г. Краснодар\, ул. Сормовская\, 7
END:VEVENT
BEGIN:VEVENT
DTSTART;TZID=Europe/Moscow:20260427T080000
DTEND;TZID=Europe/Moscow:20260429T170000
DTSTAMP:20260424T173105
CREATED:20260225T142257Z
LAST-MODIFIED:20260225T142257Z
UID:2877-1777276800-1777482000@le.kubsu.ru
SUMMARY:X Турнир по футболу среди иностранных студентов и выпускников КубГУ и вузов города Краснодара
DESCRIPTION:
URL:https://le.kubsu.ru/?tribe_events=x-%d1%82%d1%83%d1%80%d0%bd%d0%b8%d1%80-%d0%bf%d0%be-%d1%84%d1%83%d1%82%d0%b1%d0%be%d0%bb%d1%83-%d1%81%d1%80%d0%b5%d0%b4%d0%b8-%d0%b8%d0%bd%d0%be%d1%81%d1%82%d1%80%d0%b0%d0%bd%d0%bd%d1%8b%d1%85-%d1%81
LOCATION:стадион КубГУ
END:VEVENT
BEGIN:VEVENT
DTSTART;TZID=Europe/Moscow:20260427T080000
DTEND;TZID=Europe/Moscow:20260429T170000
DTSTAMP:20260424T173105
CREATED:20260325T105504Z
LAST-MODIFIED:20260325T105620Z
UID:2956-1777276800-1777482000@le.kubsu.ru
SUMMARY:Всероссийская конференция «Тьюторское сопровождение образовательной деятельности обучающихся на разных уровнях образования: практики индивидуализации\, социально-психологические механизмы»
DESCRIPTION:
URL:https://le.kubsu.ru/?tribe_events=%d0%b2%d1%81%d0%b5%d1%80%d0%be%d1%81%d1%81%d0%b8%d0%b9%d1%81%d0%ba%d0%b0%d1%8f-%d0%ba%d0%be%d0%bd%d1%84%d0%b5%d1%80%d0%b5%d0%bd%d1%86%d0%b8%d1%8f-%d1%82%d1%8c%d1%8e%d1%82%d0%be%d1%80%d1%81%d0%ba
LOCATION:г. Сочи
END:VEVENT
BEGIN:VEVENT
DTSTART;TZID=Europe/Moscow:20260427T080000
DTEND;TZID=Europe/Moscow:20260430T170000
DTSTAMP:20260424T173105
CREATED:20260407T071009Z
LAST-MODIFIED:20260407T071009Z
UID:3023-1777276800-1777568400@le.kubsu.ru
SUMMARY:Карьерный марафон 2026 (в рамках проектного решения Росмолодёжь.Гранты ООВО «Университет профессионалов»
DESCRIPTION:
URL:https://le.kubsu.ru/?tribe_events=%d0%ba%d0%b0%d1%80%d1%8c%d0%b5%d1%80%d0%bd%d1%8b%d0%b9-%d0%bc%d0%b0%d1%80%d0%b0%d1%84%d0%be%d0%bd-2026-%d0%b2-%d1%80%d0%b0%d0%bc%d0%ba%d0%b0%d1%85-%d0%bf%d1%80%d0%be%d0%b5%d0%ba%d1%82%d0%bd%d0%be
LOCATION:г. Краснодар\, ул. Ставропольская\, 149
END:VEVENT
BEGIN:VEVENT
DTSTART;TZID=Europe/Moscow:20260428T080000
DTEND;TZID=Europe/Moscow:20260430T170000
DTSTAMP:20260424T173105
CREATED:20260325T110059Z
LAST-MODIFIED:20260325T110059Z
UID:2958-1777363200-1777568400@le.kubsu.ru
SUMMARY:Международная научно-практическая конференция «Личность в пространстве семейных отношений»
DESCRIPTION:
URL:https://le.kubsu.ru/?tribe_events=%d0%bc%d0%b5%d0%b6%d0%b4%d1%83%d0%bd%d0%b0%d1%80%d0%be%d0%b4%d0%bd%d0%b0%d1%8f-%d0%bd%d0%b0%d1%83%d1%87%d0%bd%d0%be-%d0%bf%d1%80%d0%b0%d0%ba%d1%82%d0%b8%d1%87%d0%b5%d1%81%d0%ba%d0%b0%d1%8f-%d0%ba-18
LOCATION:г. Краснодар\, ул. Ставропольская\, 149
END:VEVENT
END:VCALENDAR